BEGIN:VCALENDAR
PRODID:-//ETNEWS// allshowtv.com//EN
VERSION:2.0
BEGIN:VTIMEZONE
TZID:Asia/Seoul
END:VTIMEZONE
BEGIN:VEVENT
CLASS:PUBLIC
DTSTART;TZID=Asia/Seoul:20260625T140000
DTEND;TZID=Asia/Seoul:20260625T150000
LOCATION;LANGUAGE=ko:온라인세미나
SUMMARY;LANGUAGE=ko:마이크로칩 AC 파워 모니터링, 미터링 솔루션
DESCRIPTION:https://www.allshowtv.com/detail.html?idx=1711

END:VEVENT
END:VCALENDAR