BEGIN:VCALENDAR
PRODID:-//ETNEWS// allshowtv.com//EN
VERSION:2.0
BEGIN:VTIMEZONE
TZID:Asia/Seoul
END:VTIMEZONE
BEGIN:VEVENT
CLASS:PUBLIC
DTSTART;TZID=Asia/Seoul:20260514T103000
DTEND;TZID=Asia/Seoul:20260514T113000
LOCATION;LANGUAGE=ko:온라인세미나
SUMMARY;LANGUAGE=ko:AI 시대의 코드 품질과 기능안전, 어떻게 보장할 것인가?
DESCRIPTION:https://www.allshowtv.com/detail.html?idx=1719

END:VEVENT
END:VCALENDAR